BEGIN:VCALENDAR
VERSION:2.0
PRODID:-//Health Sciences High &amp; Middle College - ECPv6.6.4.2//NONSGML v1.0//EN
CALSCALE:GREGORIAN
METHOD:PUBLISH
X-ORIGINAL-URL:https://hshmc.org
X-WR-CALDESC:Events for Health Sciences High &amp; Middle College
REFRESH-INTERVAL;VALUE=DURATION:PT1H
X-Robots-Tag:noindex
X-PUBLISHED-TTL:PT1H
BEGIN:VTIMEZONE
TZID:America/Los_Angeles
BEGIN:DAYLIGHT
TZOFFSETFROM:-0800
TZOFFSETTO:-0700
TZNAME:PDT
DTSTART:20250309T100000
END:DAYLIGHT
BEGIN:STANDARD
TZOFFSETFROM:-0700
TZOFFSETTO:-0800
TZNAME:PST
DTSTART:20251102T090000
END:STANDARD
END:VTIMEZONE
BEGIN:VEVENT
DTSTART;VALUE=DATE:20251110
DTEND;VALUE=DATE:20251111
DTSTAMP:20260425T112721
CREATED:20250619T212849Z
LAST-MODIFIED:20260425T111338Z
UID:4949-1762732800-1762819199@hshmc.org
SUMMARY:Non-instructional day
DESCRIPTION:
URL:https://hshmc.org/event/non-instructional-day-2/
CATEGORIES:Event
END:VEVENT
BEGIN:VEVENT
DTSTART;VALUE=DATE:20251111
DTEND;VALUE=DATE:20251112
DTSTAMP:20260425T112721
CREATED:20250619T212850Z
LAST-MODIFIED:20260425T111338Z
UID:4950-1762819200-1762905599@hshmc.org
SUMMARY:Veteran's Day - No School
DESCRIPTION:
URL:https://hshmc.org/event/veterans-day-no-school-2/
CATEGORIES:Event
END:VEVENT
BEGIN:VEVENT
DTSTART;VALUE=DATE:20251124
DTEND;VALUE=DATE:20251129
DTSTAMP:20260425T112721
CREATED:20250619T212850Z
LAST-MODIFIED:20260425T111338Z
UID:4951-1763942400-1764374399@hshmc.org
SUMMARY:Holiday Vacation - No School
DESCRIPTION:
URL:https://hshmc.org/event/holiday-vacation-no-school-2/
CATEGORIES:Event
END:VEVENT
END:VCALENDAR