BEGIN:VCALENDAR
VERSION:2.0
PRODID:-//Health Sciences High &amp; Middle College - ECPv6.6.4.2//NONSGML v1.0//EN
CALSCALE:GREGORIAN
METHOD:PUBLISH
X-ORIGINAL-URL:https://hshmc.org
X-WR-CALDESC:Events for Health Sciences High &amp; Middle College
REFRESH-INTERVAL;VALUE=DURATION:PT1H
X-Robots-Tag:noindex
X-PUBLISHED-TTL:PT1H
BEGIN:VTIMEZONE
TZID:America/Los_Angeles
BEGIN:DAYLIGHT
TZOFFSETFROM:-0800
TZOFFSETTO:-0700
TZNAME:PDT
DTSTART:20250309T100000
END:DAYLIGHT
BEGIN:STANDARD
TZOFFSETFROM:-0700
TZOFFSETTO:-0800
TZNAME:PST
DTSTART:20251102T090000
END:STANDARD
END:VTIMEZONE
BEGIN:VEVENT
DTSTART;VALUE=DATE:20251028
DTEND;VALUE=DATE:20251029
DTSTAMP:20260425T125009
CREATED:20250820T054341Z
LAST-MODIFIED:20260425T111338Z
UID:5113-1761609600-1761695999@hshmc.org
SUMMARY:Picture Day Makeup!
DESCRIPTION:
URL:https://hshmc.org/event/picture-day-makeup-2/
CATEGORIES:Event
END:VEVENT
END:VCALENDAR